BEGIN:VCALENDAR
VERSION:2.0
PRODID:-//Overseas Examinations Commission - ECPv6.15.20//NONSGML v1.0//EN
CALSCALE:GREGORIAN
METHOD:PUBLISH
X-WR-CALNAME:Overseas Examinations Commission
X-ORIGINAL-URL:https://overseasexams.org.jm
X-WR-CALDESC:Events for Overseas Examinations Commission
REFRESH-INTERVAL;VALUE=DURATION:PT1H
X-Robots-Tag:noindex
X-PUBLISHED-TTL:PT1H
BEGIN:VTIMEZONE
TZID:America/Jamaica
BEGIN:STANDARD
TZOFFSETFROM:-0500
TZOFFSETTO:-0500
TZNAME:EST
DTSTART:20210101T000000
END:STANDARD
END:VTIMEZONE
BEGIN:VEVENT
DTSTART;TZID=America/Jamaica:20231209T090000
DTEND;TZID=America/Jamaica:20231209T120000
DTSTAMP:20260421T085654
CREATED:20230725T093638Z
LAST-MODIFIED:20230725T093638Z
UID:105471-1702112400-1702123200@overseasexams.org.jm
SUMMARY:IELTS Exam Saturday\, December 9\, 2023
DESCRIPTION:
URL:https://overseasexams.org.jm/event/ielts-exam-saturday-december-9-2023-2/
LOCATION:OEC Montego Bay\, Jamaica
CATEGORIES:IELTS
ATTACH;FMTTYPE=image/png:https://overseasexams.org.jm/wp-content/uploads/2022/10/ielts-text-trademark.png
END:VEVENT
BEGIN:VEVENT
DTSTART;TZID=America/Jamaica:20231209T090000
DTEND;TZID=America/Jamaica:20231209T120000
DTSTAMP:20260421T085654
CREATED:20230724T134744Z
LAST-MODIFIED:20230724T134744Z
UID:105465-1702112400-1702123200@overseasexams.org.jm
SUMMARY:IELTS Exam Saturday\, December 9\, 2023
DESCRIPTION:
URL:https://overseasexams.org.jm/event/ielts-exam-saturday-december-9-2023/
LOCATION:OEC Kingston\, Kingston\, Jamaica
CATEGORIES:IELTS
ATTACH;FMTTYPE=image/png:https://overseasexams.org.jm/wp-content/uploads/2022/10/ielts-text-trademark.png
END:VEVENT
BEGIN:VEVENT
DTSTART;TZID=America/Jamaica:20231123T090000
DTEND;TZID=America/Jamaica:20231123T120000
DTSTAMP:20260421T085654
CREATED:20230725T093653Z
LAST-MODIFIED:20230725T093653Z
UID:105472-1700730000-1700740800@overseasexams.org.jm
SUMMARY:IELTS Exam Thursday\, November 23\, 2023
DESCRIPTION:
URL:https://overseasexams.org.jm/event/ielts-exam-thursday-november-23-2023-2/
LOCATION:OEC Montego Bay\, Jamaica
CATEGORIES:IELTS
ATTACH;FMTTYPE=image/png:https://overseasexams.org.jm/wp-content/uploads/2022/10/ielts-text-trademark.png
END:VEVENT
BEGIN:VEVENT
DTSTART;TZID=America/Jamaica:20231123T090000
DTEND;TZID=America/Jamaica:20231123T120000
DTSTAMP:20260421T085654
CREATED:20230724T134627Z
LAST-MODIFIED:20230724T134627Z
UID:105466-1700730000-1700740800@overseasexams.org.jm
SUMMARY:IELTS Exam Thursday\, November 23\, 2023
DESCRIPTION:
URL:https://overseasexams.org.jm/event/ielts-exam-thursday-november-23-2023/
LOCATION:OEC Kingston\, Kingston\, Jamaica
CATEGORIES:IELTS
ATTACH;FMTTYPE=image/png:https://overseasexams.org.jm/wp-content/uploads/2022/10/ielts-text-trademark.png
END:VEVENT
BEGIN:VEVENT
DTSTART;TZID=America/Jamaica:20231118T090000
DTEND;TZID=America/Jamaica:20231118T120000
DTSTAMP:20260421T085654
CREATED:20230725T093746Z
LAST-MODIFIED:20230725T093746Z
UID:105464-1700298000-1700308800@overseasexams.org.jm
SUMMARY:IELTS Exam Saturday\, November 18\, 2023
DESCRIPTION:
URL:https://overseasexams.org.jm/event/ielts-exam-saturday-november-18-2023-2/
LOCATION:OEC Montego Bay\, Jamaica
CATEGORIES:IELTS
ATTACH;FMTTYPE=image/png:https://overseasexams.org.jm/wp-content/uploads/2022/10/ielts-text-trademark.png
END:VEVENT
BEGIN:VEVENT
DTSTART;TZID=America/Jamaica:20231118T090000
DTEND;TZID=America/Jamaica:20231118T120000
DTSTAMP:20260421T085654
CREATED:20230724T134448Z
LAST-MODIFIED:20230724T134448Z
UID:105440-1700298000-1700308800@overseasexams.org.jm
SUMMARY:IELTS Exam Saturday\, November 18\, 2023
DESCRIPTION:
URL:https://overseasexams.org.jm/event/ielts-exam-saturday-november-18-2023/
LOCATION:OEC Kingston\, Kingston\, Jamaica
CATEGORIES:IELTS
ATTACH;FMTTYPE=image/png:https://overseasexams.org.jm/wp-content/uploads/2022/10/ielts-text-trademark.png
END:VEVENT
BEGIN:VEVENT
DTSTART;TZID=America/Jamaica:20231108T090000
DTEND;TZID=America/Jamaica:20231108T120000
DTSTAMP:20260421T085654
CREATED:20230725T093853Z
LAST-MODIFIED:20230725T093853Z
UID:105473-1699434000-1699444800@overseasexams.org.jm
SUMMARY:IELTS Exam Wednesday\, November 8\, 2023
DESCRIPTION:
URL:https://overseasexams.org.jm/event/ielts-exam-wednesday-november-8-2023-2/
LOCATION:OEC Montego Bay\, Jamaica
CATEGORIES:IELTS
ATTACH;FMTTYPE=image/png:https://overseasexams.org.jm/wp-content/uploads/2022/10/ielts-text-trademark.png
END:VEVENT
BEGIN:VEVENT
DTSTART;TZID=America/Jamaica:20231108T090000
DTEND;TZID=America/Jamaica:20231108T120000
DTSTAMP:20260421T085654
CREATED:20230724T134405Z
LAST-MODIFIED:20230724T134405Z
UID:105441-1699434000-1699444800@overseasexams.org.jm
SUMMARY:IELTS Exam Wednesday\, November 8\, 2023
DESCRIPTION:
URL:https://overseasexams.org.jm/event/ielts-exam-wednesday-november-8-2023/
LOCATION:OEC Kingston\, Kingston\, Jamaica
CATEGORIES:IELTS
ATTACH;FMTTYPE=image/png:https://overseasexams.org.jm/wp-content/uploads/2022/10/ielts-text-trademark.png
END:VEVENT
BEGIN:VEVENT
DTSTART;TZID=America/Jamaica:20231026T090000
DTEND;TZID=America/Jamaica:20231026T120000
DTSTAMP:20260421T085654
CREATED:20230725T093908Z
LAST-MODIFIED:20230725T093908Z
UID:105474-1698310800-1698321600@overseasexams.org.jm
SUMMARY:IELTS Exam Thursday\, October 26\, 2023
DESCRIPTION:
URL:https://overseasexams.org.jm/event/ielts-exam-thursday-october-26-2023-2/
LOCATION:OEC Montego Bay\, Jamaica
CATEGORIES:IELTS
ATTACH;FMTTYPE=image/png:https://overseasexams.org.jm/wp-content/uploads/2022/10/ielts-text-trademark.png
END:VEVENT
BEGIN:VEVENT
DTSTART;TZID=America/Jamaica:20231026T090000
DTEND;TZID=America/Jamaica:20231026T120000
DTSTAMP:20260421T085654
CREATED:20230724T134313Z
LAST-MODIFIED:20230724T134313Z
UID:105442-1698310800-1698321600@overseasexams.org.jm
SUMMARY:IELTS Exam Thursday\, October 26\, 2023
DESCRIPTION:
URL:https://overseasexams.org.jm/event/ielts-exam-thursday-october-26-2023/
LOCATION:OEC Kingston\, Kingston\, Jamaica
CATEGORIES:IELTS
ATTACH;FMTTYPE=image/png:https://overseasexams.org.jm/wp-content/uploads/2022/10/ielts-text-trademark.png
END:VEVENT
BEGIN:VEVENT
DTSTART;TZID=America/Jamaica:20231018T090000
DTEND;TZID=America/Jamaica:20231018T120000
DTSTAMP:20260421T085654
CREATED:20230725T093921Z
LAST-MODIFIED:20230725T093921Z
UID:105475-1697619600-1697630400@overseasexams.org.jm
SUMMARY:IELTS Exam Wednesday\, October 18\, 2023
DESCRIPTION:
URL:https://overseasexams.org.jm/event/ielts-exam-wednesday-october-18-2023-2/
LOCATION:OEC Montego Bay\, Jamaica
CATEGORIES:IELTS
ATTACH;FMTTYPE=image/png:https://overseasexams.org.jm/wp-content/uploads/2022/10/ielts-text-trademark.png
END:VEVENT
BEGIN:VEVENT
DTSTART;TZID=America/Jamaica:20231018T090000
DTEND;TZID=America/Jamaica:20231018T120000
DTSTAMP:20260421T085654
CREATED:20230724T134231Z
LAST-MODIFIED:20230724T134231Z
UID:105443-1697619600-1697630400@overseasexams.org.jm
SUMMARY:IELTS Exam Wednesday\, October 18\, 2023
DESCRIPTION:
URL:https://overseasexams.org.jm/event/ielts-exam-wednesday-october-18-2023/
LOCATION:OEC Kingston\, Kingston\, Jamaica
CATEGORIES:IELTS
ATTACH;FMTTYPE=image/png:https://overseasexams.org.jm/wp-content/uploads/2022/10/ielts-text-trademark.png
END:VEVENT
BEGIN:VEVENT
DTSTART;TZID=America/Jamaica:20231014T090000
DTEND;TZID=America/Jamaica:20231014T120000
DTSTAMP:20260421T085654
CREATED:20230725T093939Z
LAST-MODIFIED:20230725T093939Z
UID:105476-1697274000-1697284800@overseasexams.org.jm
SUMMARY:IELTS Exam Saturday\, October 14\, 2023
DESCRIPTION:
URL:https://overseasexams.org.jm/event/ielts-exam-saturday-october-14-2023-2/
LOCATION:OEC Montego Bay\, Jamaica
CATEGORIES:IELTS
ATTACH;FMTTYPE=image/png:https://overseasexams.org.jm/wp-content/uploads/2022/10/ielts-text-trademark.png
END:VEVENT
BEGIN:VEVENT
DTSTART;TZID=America/Jamaica:20231014T090000
DTEND;TZID=America/Jamaica:20231014T120000
DTSTAMP:20260421T085654
CREATED:20230724T134150Z
LAST-MODIFIED:20230724T134150Z
UID:105444-1697274000-1697284800@overseasexams.org.jm
SUMMARY:IELTS Exam Saturday\, October 14\, 2023
DESCRIPTION:
URL:https://overseasexams.org.jm/event/ielts-exam-saturday-october-14-2023/
LOCATION:OEC Kingston\, Kingston\, Jamaica
CATEGORIES:IELTS
ATTACH;FMTTYPE=image/png:https://overseasexams.org.jm/wp-content/uploads/2022/10/ielts-text-trademark.png
END:VEVENT
BEGIN:VEVENT
DTSTART;TZID=America/Jamaica:20230927T090000
DTEND;TZID=America/Jamaica:20230927T120000
DTSTAMP:20260421T085654
CREATED:20230725T093952Z
LAST-MODIFIED:20230725T093952Z
UID:105480-1695805200-1695816000@overseasexams.org.jm
SUMMARY:IELTS Exam Wednesday\, September 27\, 2023
DESCRIPTION:
URL:https://overseasexams.org.jm/event/ielts-exam-wednesday-september-27-2023-2/
LOCATION:OEC Montego Bay\, Jamaica
CATEGORIES:IELTS
ATTACH;FMTTYPE=image/png:https://overseasexams.org.jm/wp-content/uploads/2022/10/ielts-text-trademark.png
END:VEVENT
BEGIN:VEVENT
DTSTART;TZID=America/Jamaica:20230927T090000
DTEND;TZID=America/Jamaica:20230927T120000
DTSTAMP:20260421T085654
CREATED:20230724T134115Z
LAST-MODIFIED:20230724T134115Z
UID:105445-1695805200-1695816000@overseasexams.org.jm
SUMMARY:IELTS Exam Wednesday\, September 27\, 2023
DESCRIPTION:
URL:https://overseasexams.org.jm/event/ielts-exam-wednesday-september-27-2023/
LOCATION:OEC Kingston\, Kingston\, Jamaica
CATEGORIES:IELTS
ATTACH;FMTTYPE=image/png:https://overseasexams.org.jm/wp-content/uploads/2022/10/ielts-text-trademark.png
END:VEVENT
BEGIN:VEVENT
DTSTART;TZID=America/Jamaica:20230913T090000
DTEND;TZID=America/Jamaica:20230913T120000
DTSTAMP:20260421T085654
CREATED:20230725T094011Z
LAST-MODIFIED:20230725T094011Z
UID:105477-1694595600-1694606400@overseasexams.org.jm
SUMMARY:IELTS Exam Wednesday\, September 13\, 2023
DESCRIPTION:
URL:https://overseasexams.org.jm/event/ielts-exam-wednesday-september-13-2023-2/
LOCATION:OEC Montego Bay\, Jamaica
CATEGORIES:IELTS
ATTACH;FMTTYPE=image/png:https://overseasexams.org.jm/wp-content/uploads/2022/10/ielts-text-trademark.png
END:VEVENT
BEGIN:VEVENT
DTSTART;TZID=America/Jamaica:20230913T090000
DTEND;TZID=America/Jamaica:20230913T120000
DTSTAMP:20260421T085654
CREATED:20230724T134041Z
LAST-MODIFIED:20230724T134041Z
UID:105446-1694595600-1694606400@overseasexams.org.jm
SUMMARY:IELTS Exam Wednesday\, September 13\, 2023
DESCRIPTION:
URL:https://overseasexams.org.jm/event/ielts-exam-wednesday-september-13-2023/
LOCATION:OEC Kingston\, Kingston\, Jamaica
CATEGORIES:IELTS
ATTACH;FMTTYPE=image/png:https://overseasexams.org.jm/wp-content/uploads/2022/10/ielts-text-trademark.png
END:VEVENT
BEGIN:VEVENT
DTSTART;TZID=America/Jamaica:20230902T090000
DTEND;TZID=America/Jamaica:20230902T120000
DTSTAMP:20260421T085654
CREATED:20230725T094020Z
LAST-MODIFIED:20230725T094020Z
UID:105478-1693645200-1693656000@overseasexams.org.jm
SUMMARY:IELTS Exam Saturday\, September 2\, 2023
DESCRIPTION:
URL:https://overseasexams.org.jm/event/ielts-exam-saturday-september-2-2023-2/
LOCATION:OEC Montego Bay\, Jamaica
CATEGORIES:IELTS
ATTACH;FMTTYPE=image/png:https://overseasexams.org.jm/wp-content/uploads/2022/10/ielts-text-trademark.png
END:VEVENT
BEGIN:VEVENT
DTSTART;TZID=America/Jamaica:20230902T090000
DTEND;TZID=America/Jamaica:20230902T120000
DTSTAMP:20260421T085654
CREATED:20230724T133952Z
LAST-MODIFIED:20230724T133952Z
UID:105447-1693645200-1693656000@overseasexams.org.jm
SUMMARY:IELTS Exam Saturday\, September 2\, 2023
DESCRIPTION:
URL:https://overseasexams.org.jm/event/ielts-exam-saturday-september-2-2023/
LOCATION:OEC Kingston\, Kingston\, Jamaica
CATEGORIES:IELTS
ATTACH;FMTTYPE=image/png:https://overseasexams.org.jm/wp-content/uploads/2022/10/ielts-text-trademark.png
END:VEVENT
BEGIN:VEVENT
DTSTART;TZID=America/Jamaica:20230824T090000
DTEND;TZID=America/Jamaica:20230824T120000
DTSTAMP:20260421T085654
CREATED:20230725T094035Z
LAST-MODIFIED:20230725T094035Z
UID:105479-1692867600-1692878400@overseasexams.org.jm
SUMMARY:IELTS Exam Thursday\, August 24\, 2023
DESCRIPTION:
URL:https://overseasexams.org.jm/event/ielts-exam-thursday-august-24-2023-2/
LOCATION:OEC Montego Bay\, Jamaica
CATEGORIES:IELTS
ATTACH;FMTTYPE=image/png:https://overseasexams.org.jm/wp-content/uploads/2022/10/ielts-text-trademark.png
END:VEVENT
BEGIN:VEVENT
DTSTART;TZID=America/Jamaica:20230824T090000
DTEND;TZID=America/Jamaica:20230824T120000
DTSTAMP:20260421T085654
CREATED:20230724T133915Z
LAST-MODIFIED:20230724T133915Z
UID:105448-1692867600-1692878400@overseasexams.org.jm
SUMMARY:IELTS Exam Thursday\, August 24\, 2023
DESCRIPTION:
URL:https://overseasexams.org.jm/event/ielts-exam-thursday-august-24-2023/
LOCATION:OEC Kingston\, Kingston\, Jamaica
CATEGORIES:IELTS
ATTACH;FMTTYPE=image/png:https://overseasexams.org.jm/wp-content/uploads/2022/10/ielts-text-trademark.png
END:VEVENT
BEGIN:VEVENT
DTSTART;TZID=America/Jamaica:20230819T090000
DTEND;TZID=America/Jamaica:20230819T120000
DTSTAMP:20260421T085654
CREATED:20230725T094051Z
LAST-MODIFIED:20230725T094051Z
UID:105481-1692435600-1692446400@overseasexams.org.jm
SUMMARY:IELTS Exam Saturday\, August 19\, 2023
DESCRIPTION:
URL:https://overseasexams.org.jm/event/ielts-exam-saturday-august-19-2023-2/
LOCATION:OEC Montego Bay\, Jamaica
CATEGORIES:IELTS
ATTACH;FMTTYPE=image/png:https://overseasexams.org.jm/wp-content/uploads/2022/10/ielts-text-trademark.png
END:VEVENT
BEGIN:VEVENT
DTSTART;TZID=America/Jamaica:20230819T090000
DTEND;TZID=America/Jamaica:20230819T120000
DTSTAMP:20260421T085654
CREATED:20230724T133734Z
LAST-MODIFIED:20230724T133734Z
UID:105449-1692435600-1692446400@overseasexams.org.jm
SUMMARY:IELTS Exam Saturday\, August 19\, 2023
DESCRIPTION:
URL:https://overseasexams.org.jm/event/ielts-exam-saturday-august-19-2023/
LOCATION:OEC Kingston\, Kingston\, Jamaica
CATEGORIES:IELTS
ATTACH;FMTTYPE=image/png:https://overseasexams.org.jm/wp-content/uploads/2022/10/ielts-text-trademark.png
END:VEVENT
BEGIN:VEVENT
DTSTART;TZID=America/Jamaica:20230810T090000
DTEND;TZID=America/Jamaica:20230810T120000
DTSTAMP:20260421T085654
CREATED:20230725T094105Z
LAST-MODIFIED:20230725T094105Z
UID:105482-1691658000-1691668800@overseasexams.org.jm
SUMMARY:IELTS Exam Thursday\, August 10\, 2023
DESCRIPTION:
URL:https://overseasexams.org.jm/event/ielts-exam-thursday-august-10-2023-2/
LOCATION:OEC Montego Bay\, Jamaica
CATEGORIES:IELTS
ATTACH;FMTTYPE=image/png:https://overseasexams.org.jm/wp-content/uploads/2022/10/ielts-text-trademark.png
END:VEVENT
BEGIN:VEVENT
DTSTART;TZID=America/Jamaica:20230810T090000
DTEND;TZID=America/Jamaica:20230810T120000
DTSTAMP:20260421T085654
CREATED:20230724T125711Z
LAST-MODIFIED:20230724T125711Z
UID:105450-1691658000-1691668800@overseasexams.org.jm
SUMMARY:IELTS Exam Thursday\, August 10\, 2023
DESCRIPTION:
URL:https://overseasexams.org.jm/event/ielts-exam-thursday-august-10-2023/
LOCATION:OEC Kingston\, Kingston\, Jamaica
CATEGORIES:IELTS
ATTACH;FMTTYPE=image/png:https://overseasexams.org.jm/wp-content/uploads/2022/10/ielts-text-trademark.png
END:VEVENT
BEGIN:VEVENT
DTSTART;TZID=America/Jamaica:20230726T090000
DTEND;TZID=America/Jamaica:20230726T120000
DTSTAMP:20260421T085654
CREATED:20230725T094119Z
LAST-MODIFIED:20230725T094119Z
UID:105483-1690362000-1690372800@overseasexams.org.jm
SUMMARY:IELTS Exam Wednesday\, July 26\, 2023
DESCRIPTION:
URL:https://overseasexams.org.jm/event/ielts-exam-wednesday-july-26-2023-2/
LOCATION:OEC Montego Bay\, Jamaica
CATEGORIES:IELTS
ATTACH;FMTTYPE=image/png:https://overseasexams.org.jm/wp-content/uploads/2022/10/ielts-text-trademark.png
END:VEVENT
BEGIN:VEVENT
DTSTART;TZID=America/Jamaica:20230726T090000
DTEND;TZID=America/Jamaica:20230726T120000
DTSTAMP:20260421T085654
CREATED:20230724T125626Z
LAST-MODIFIED:20230724T185747Z
UID:105451-1690362000-1690372800@overseasexams.org.jm
SUMMARY:IELTS Exam Wednesday\, July 26\, 2023
DESCRIPTION:
URL:https://overseasexams.org.jm/event/ielts-exam-wednesday-july-26-2023/
LOCATION:OEC Kingston\, Kingston\, Jamaica
CATEGORIES:IELTS
ATTACH;FMTTYPE=image/png:https://overseasexams.org.jm/wp-content/uploads/2022/10/ielts-text-trademark.png
END:VEVENT
BEGIN:VEVENT
DTSTART;TZID=America/Jamaica:20221110T090000
DTEND;TZID=America/Jamaica:20221110T120000
DTSTAMP:20260421T085654
CREATED:20221007T115602Z
LAST-MODIFIED:20221010T111250Z
UID:104384-1668070800-1668081600@overseasexams.org.jm
SUMMARY:IELTS Exam November 10\, 2022
DESCRIPTION:
URL:https://overseasexams.org.jm/event/ielts-exam-november-10-2022/
LOCATION:OEC Kingston\, Kingston\, Jamaica
CATEGORIES:IELTS
ATTACH;FMTTYPE=image/png:https://overseasexams.org.jm/wp-content/uploads/2022/10/ielts-text-trademark.png
END:VEVENT
BEGIN:VEVENT
DTSTART;TZID=America/Jamaica:20221105T090000
DTEND;TZID=America/Jamaica:20221105T120000
DTSTAMP:20260421T085654
CREATED:20221007T115530Z
LAST-MODIFIED:20221007T121004Z
UID:104383-1667638800-1667649600@overseasexams.org.jm
SUMMARY:IELTS Exam November 5\, 2022
DESCRIPTION:
URL:https://overseasexams.org.jm/event/ielts-exam-november-5-2022/
LOCATION:OEC Kingston\, Kingston\, Jamaica
CATEGORIES:IELTS
ATTACH;FMTTYPE=image/png:https://overseasexams.org.jm/wp-content/uploads/2022/10/ielts-text-trademark.png
END:VEVENT
END:VCALENDAR