BEGIN:VCALENDAR
VERSION:2.0
PRODID:-//Overseas Examinations Commission - ECPv6.15.20//NONSGML v1.0//EN
CALSCALE:GREGORIAN
METHOD:PUBLISH
X-ORIGINAL-URL:https://overseasexams.org.jm
X-WR-CALDESC:Events for Overseas Examinations Commission
REFRESH-INTERVAL;VALUE=DURATION:PT1H
X-Robots-Tag:noindex
X-PUBLISHED-TTL:PT1H
BEGIN:VTIMEZONE
TZID:America/Jamaica
BEGIN:STANDARD
TZOFFSETFROM:-0500
TZOFFSETTO:-0500
TZNAME:EST
DTSTART:20210101T000000
END:STANDARD
END:VTIMEZONE
BEGIN:VEVENT
DTSTART;TZID=America/Jamaica:20230921T090000
DTEND;TZID=America/Jamaica:20230921T120000
DTSTAMP:20260422T102447
CREATED:20230725T095147Z
LAST-MODIFIED:20230725T095147Z
UID:105507-1695286800-1695297600@overseasexams.org.jm
SUMMARY:ACCA Exam 21 SEPTEMBER 2023
DESCRIPTION:
URL:https://overseasexams.org.jm/event/acca-exam-21-september-2023/
LOCATION:OEC Montego Bay\, Jamaica
CATEGORIES:ACCA
ATTACH;FMTTYPE=image/png:https://overseasexams.org.jm/wp-content/uploads/2022/10/ACCA_logo.png
END:VEVENT
BEGIN:VEVENT
DTSTART;TZID=America/Jamaica:20230914T090000
DTEND;TZID=America/Jamaica:20230914T120000
DTSTAMP:20260422T102447
CREATED:20230725T095123Z
LAST-MODIFIED:20230725T095123Z
UID:105508-1694682000-1694692800@overseasexams.org.jm
SUMMARY:ACCA Exam 14 SEPTEMBER 2023
DESCRIPTION:
URL:https://overseasexams.org.jm/event/acca-exam-14-september-2023/
LOCATION:OEC Montego Bay\, Jamaica
CATEGORIES:ACCA
ATTACH;FMTTYPE=image/png:https://overseasexams.org.jm/wp-content/uploads/2022/10/ACCA_logo.png
END:VEVENT
BEGIN:VEVENT
DTSTART;TZID=America/Jamaica:20230912T090000
DTEND;TZID=America/Jamaica:20230912T120000
DTSTAMP:20260422T102447
CREATED:20230725T095051Z
LAST-MODIFIED:20230725T095051Z
UID:105509-1694509200-1694520000@overseasexams.org.jm
SUMMARY:ACCA Exam 12 SEPTEMBER 2023
DESCRIPTION:
URL:https://overseasexams.org.jm/event/acca-exam-12-september-2023/
LOCATION:OEC Montego Bay\, Jamaica
CATEGORIES:ACCA
ATTACH;FMTTYPE=image/png:https://overseasexams.org.jm/wp-content/uploads/2022/10/ACCA_logo.png
END:VEVENT
BEGIN:VEVENT
DTSTART;TZID=America/Jamaica:20230824T090000
DTEND;TZID=America/Jamaica:20230824T120000
DTSTAMP:20260422T102447
CREATED:20230725T094949Z
LAST-MODIFIED:20230725T094949Z
UID:105510-1692867600-1692878400@overseasexams.org.jm
SUMMARY:ACCA Exam 24 AUGUST 2023
DESCRIPTION:
URL:https://overseasexams.org.jm/event/acca-exam-24-august-2023/
LOCATION:OEC Montego Bay\, Jamaica
CATEGORIES:ACCA
ATTACH;FMTTYPE=image/png:https://overseasexams.org.jm/wp-content/uploads/2022/10/ACCA_logo.png
END:VEVENT
BEGIN:VEVENT
DTSTART;TZID=America/Jamaica:20230817T090000
DTEND;TZID=America/Jamaica:20230817T120000
DTSTAMP:20260422T102447
CREATED:20230725T094912Z
LAST-MODIFIED:20230725T094912Z
UID:105511-1692262800-1692273600@overseasexams.org.jm
SUMMARY:ACCA Exam 17 AUGUST 2023
DESCRIPTION:
URL:https://overseasexams.org.jm/event/acca-exam-17-august-2023/
LOCATION:OEC Montego Bay\, Jamaica
CATEGORIES:ACCA
ATTACH;FMTTYPE=image/png:https://overseasexams.org.jm/wp-content/uploads/2022/10/ACCA_logo.png
END:VEVENT
BEGIN:VEVENT
DTSTART;TZID=America/Jamaica:20230810T090000
DTEND;TZID=America/Jamaica:20230810T120000
DTSTAMP:20260422T102447
CREATED:20230725T094839Z
LAST-MODIFIED:20230725T094839Z
UID:105512-1691658000-1691668800@overseasexams.org.jm
SUMMARY:ACCA Exam 10 AUGUST 2023
DESCRIPTION:
URL:https://overseasexams.org.jm/event/acca-exam-10-august-2023/
LOCATION:OEC Montego Bay\, Jamaica
CATEGORIES:ACCA
ATTACH;FMTTYPE=image/png:https://overseasexams.org.jm/wp-content/uploads/2022/10/ACCA_logo.png
END:VEVENT
BEGIN:VEVENT
DTSTART;TZID=America/Jamaica:20230803T090000
DTEND;TZID=America/Jamaica:20230803T120000
DTSTAMP:20260422T102447
CREATED:20230725T094743Z
LAST-MODIFIED:20230725T094743Z
UID:105513-1691053200-1691064000@overseasexams.org.jm
SUMMARY:ACCA Exam 03 AUGUST 2023
DESCRIPTION:
URL:https://overseasexams.org.jm/event/acca-exam-03-august-2023/
LOCATION:OEC Montego Bay\, Jamaica
CATEGORIES:ACCA
ATTACH;FMTTYPE=image/png:https://overseasexams.org.jm/wp-content/uploads/2022/10/ACCA_logo.png
END:VEVENT
BEGIN:VEVENT
DTSTART;TZID=America/Jamaica:20230727T090000
DTEND;TZID=America/Jamaica:20230727T120000
DTSTAMP:20260422T102447
CREATED:20230725T094656Z
LAST-MODIFIED:20230725T094808Z
UID:105514-1690448400-1690459200@overseasexams.org.jm
SUMMARY:ACCA Exam 27 JULY 2023
DESCRIPTION:
URL:https://overseasexams.org.jm/event/acca-exam-27-july-2023/
LOCATION:OEC Montego Bay\, Jamaica
CATEGORIES:ACCA
ATTACH;FMTTYPE=image/png:https://overseasexams.org.jm/wp-content/uploads/2022/10/ACCA_logo.png
END:VEVENT
BEGIN:VEVENT
DTSTART;TZID=America/Jamaica:20221104T090000
DTEND;TZID=America/Jamaica:20221104T120000
DTSTAMP:20260422T102447
CREATED:20221007T130008Z
LAST-MODIFIED:20221007T130008Z
UID:104400-1667552400-1667563200@overseasexams.org.jm
SUMMARY:ACCA Exam November 4\, 2022
DESCRIPTION:
URL:https://overseasexams.org.jm/event/acca-exam-november-4-2022/
LOCATION:OEC Montego Bay\, Jamaica
CATEGORIES:ACCA
ATTACH;FMTTYPE=image/png:https://overseasexams.org.jm/wp-content/uploads/2022/10/ACCA_logo.png
END:VEVENT
BEGIN:VEVENT
DTSTART;TZID=America/Jamaica:20221028T090000
DTEND;TZID=America/Jamaica:20221028T120000
DTSTAMP:20260422T102447
CREATED:20221007T125924Z
LAST-MODIFIED:20221007T130211Z
UID:104399-1666947600-1666958400@overseasexams.org.jm
SUMMARY:ACCA Exam October 28\, 2022
DESCRIPTION:
URL:https://overseasexams.org.jm/event/acca-exam-october-28-2022/
LOCATION:OEC Montego Bay\, Jamaica
CATEGORIES:ACCA
ATTACH;FMTTYPE=image/png:https://overseasexams.org.jm/wp-content/uploads/2022/10/ACCA_logo.png
END:VEVENT
BEGIN:VEVENT
DTSTART;TZID=America/Jamaica:20221021T090000
DTEND;TZID=America/Jamaica:20221021T120000
DTSTAMP:20260422T102447
CREATED:20221007T125250Z
LAST-MODIFIED:20221007T130139Z
UID:104398-1666342800-1666353600@overseasexams.org.jm
SUMMARY:ACCA Exam October 21\, 2022
DESCRIPTION:
URL:https://overseasexams.org.jm/event/acca-exam-october-21-2022/
LOCATION:OEC Montego Bay\, Jamaica
CATEGORIES:ACCA
ATTACH;FMTTYPE=image/png:https://overseasexams.org.jm/wp-content/uploads/2022/10/ACCA_logo.png
END:VEVENT
BEGIN:VEVENT
DTSTART;TZID=America/Jamaica:20221014T090000
DTEND;TZID=America/Jamaica:20221014T120000
DTSTAMP:20260422T102447
CREATED:20221007T123711Z
LAST-MODIFIED:20221007T130121Z
UID:104393-1665738000-1665748800@overseasexams.org.jm
SUMMARY:ACCA Exam October 14\, 2022
DESCRIPTION:
URL:https://overseasexams.org.jm/event/acca-exam-october-14-2022/
LOCATION:OEC Montego Bay\, Jamaica
CATEGORIES:ACCA
ATTACH;FMTTYPE=image/png:https://overseasexams.org.jm/wp-content/uploads/2022/10/ACCA_logo.png
END:VEVENT
END:VCALENDAR